BEGIN:VCALENDAR
VERSION:2.0
PRODID:-//Silence Teatro - ECPv6.15.20//NONSGML v1.0//EN
CALSCALE:GREGORIAN
METHOD:PUBLISH
X-WR-CALNAME:Silence Teatro
X-ORIGINAL-URL:https://silenceteatro.it
X-WR-CALDESC:Eventi per Silence Teatro
REFRESH-INTERVAL;VALUE=DURATION:PT1H
X-Robots-Tag:noindex
X-PUBLISHED-TTL:PT1H
BEGIN:VTIMEZONE
TZID:UTC
BEGIN:STANDARD
TZOFFSETFROM:+0000
TZOFFSETTO:+0000
TZNAME:UTC
DTSTART:20230101T000000
END:STANDARD
END:VTIMEZONE
BEGIN:VEVENT
DTSTART;TZID=UTC:20241208T160000
DTEND;TZID=UTC:20241208T160000
DTSTAMP:20260422T074925
CREATED:20241027T173416Z
LAST-MODIFIED:20241027T173416Z
UID:19175-1733673600-1733673600@silenceteatro.it
SUMMARY:Come Angeli del Cielo - FAGAGNA (UD)
DESCRIPTION:Performance itinerante per chi crede possibile assaporare la bellezza del sogno.\n» Vai alla scheda dello spettacolo
URL:https://silenceteatro.it/event/come-angeli-del-cielo-08-12-2024/
LOCATION:FAGAGNA (UD)
ATTACH;FMTTYPE=image/jpeg:https://silenceteatro.it/wp-content/uploads/2024/10/angeli83-750x500-1.jpg
END:VEVENT
BEGIN:VEVENT
DTSTART;TZID=UTC:20241214T163000
DTEND;TZID=UTC:20241214T163000
DTSTAMP:20260422T074925
CREATED:20241007T222217Z
LAST-MODIFIED:20241007T222242Z
UID:19149-1734193800-1734193800@silenceteatro.it
SUMMARY:Come Angeli del Cielo - SETTIMO TORINESE (TO)
DESCRIPTION:Performance itinerante per chi crede possibile assaporare la bellezza del sogno.\n» Vai alla scheda dello spettacolo
URL:https://silenceteatro.it/event/come-angeli-del-cielo-14-12-2024/
LOCATION:SETTIMO TORINESE (TO)
ATTACH;FMTTYPE=image/jpeg:https://silenceteatro.it/wp-content/uploads/2024/10/angeli83-750x500-1.jpg
END:VEVENT
BEGIN:VEVENT
DTSTART;TZID=UTC:20241215T153000
DTEND;TZID=UTC:20241215T153000
DTSTAMP:20260422T074925
CREATED:20241027T173820Z
LAST-MODIFIED:20241125T170403Z
UID:19178-1734276600-1734276600@silenceteatro.it
SUMMARY:Come Angeli del Cielo - CAORLE (VE)
DESCRIPTION:Performance itinerante per chi crede possibile assaporare la bellezza del sogno.\n» Vai alla scheda dello spettacolo
URL:https://silenceteatro.it/event/come-angeli-del-cielo-15-12-2024/
LOCATION:CAORLE (VE)
ATTACH;FMTTYPE=image/jpeg:https://silenceteatro.it/wp-content/uploads/2024/10/angeli83-750x500-1.jpg
END:VEVENT
BEGIN:VEVENT
DTSTART;TZID=UTC:20241221T160000
DTEND;TZID=UTC:20241221T160000
DTSTAMP:20260422T074925
CREATED:20241027T174110Z
LAST-MODIFIED:20241027T174110Z
UID:19181-1734796800-1734796800@silenceteatro.it
SUMMARY:Come Angeli del Cielo - LEGNANO (MI)
DESCRIPTION:Performance itinerante per chi crede possibile assaporare la bellezza del sogno.\n» Vai alla scheda dello spettacolo
URL:https://silenceteatro.it/event/come-angeli-del-cielo-21-12-2024/
LOCATION:LEGNANO (MI)
ATTACH;FMTTYPE=image/jpeg:https://silenceteatro.it/wp-content/uploads/2024/10/angeli83-750x500-1.jpg
END:VEVENT
BEGIN:VEVENT
DTSTART;TZID=UTC:20241222T153000
DTEND;TZID=UTC:20241222T153000
DTSTAMP:20260422T074925
CREATED:20241117T201501Z
LAST-MODIFIED:20241117T201501Z
UID:19196-1734881400-1734881400@silenceteatro.it
SUMMARY:Come Angeli del Cielo - MAGENTA (MI)
DESCRIPTION:Performance itinerante per chi crede possibile assaporare la bellezza del sogno.\n» Vai alla scheda dello spettacolo
URL:https://silenceteatro.it/event/come-angeli-del-cielo-22-12-2024/
LOCATION:MAGENTA (MI)
ATTACH;FMTTYPE=image/jpeg:https://silenceteatro.it/wp-content/uploads/2024/10/angeli83-750x500-1.jpg
END:VEVENT
END:VCALENDAR