BEGIN:VCALENDAR
VERSION:2.0
PRODID:-//Silence Teatro - ECPv6.15.20//NONSGML v1.0//EN
CALSCALE:GREGORIAN
METHOD:PUBLISH
X-ORIGINAL-URL:https://silenceteatro.it
X-WR-CALDESC:Eventi per Silence Teatro
REFRESH-INTERVAL;VALUE=DURATION:PT1H
X-Robots-Tag:noindex
X-PUBLISHED-TTL:PT1H
BEGIN:VTIMEZONE
TZID:UTC
BEGIN:STANDARD
TZOFFSETFROM:+0000
TZOFFSETTO:+0000
TZNAME:UTC
DTSTART:20230101T000000
END:STANDARD
END:VTIMEZONE
BEGIN:VEVENT
DTSTART;TZID=UTC:20240907T210000
DTEND;TZID=UTC:20240907T210000
DTSTAMP:20260422T122702
CREATED:20240620T002909Z
LAST-MODIFIED:20241004T154136Z
UID:17890-1725742800-1725742800@silenceteatro.it
SUMMARY:Come Angeli del Cielo - CIVITANOVA MARCHE (MC)
DESCRIPTION:Performance itinerante per chi crede possibile assaporare la bellezza del sogno.\n» Vai alla scheda dello spettacolo
URL:https://silenceteatro.it/event/come-angeli-del-cielo-07-09-2024/
LOCATION:CIVITANOVA MARCHE (MC)\, - Centro Commerciale “Il Cuore Adriatico”
ATTACH;FMTTYPE=image/jpeg:https://silenceteatro.it/wp-content/uploads/2017/06/angeli02-full.jpg
END:VEVENT
BEGIN:VEVENT
DTSTART;TZID=UTC:20240913T173000
DTEND;TZID=UTC:20240913T173000
DTSTAMP:20260422T122702
CREATED:20240704T170929Z
LAST-MODIFIED:20241004T154231Z
UID:17897-1726248600-1726248600@silenceteatro.it
SUMMARY:FigurAzione - CERTOSA DI VAL SENALES (BZ)
DESCRIPTION:Spettacolo itinerante sul tema della Memoria.\n» Vai alla scheda dello spettacolo
URL:https://silenceteatro.it/event/figurazione-13-09-2024/
LOCATION:CERTOSA DI VAL SENALES (BZ)
ATTACH;FMTTYPE=image/jpeg:https://silenceteatro.it/wp-content/uploads/2024/06/figu35-800x440-1.jpg
END:VEVENT
BEGIN:VEVENT
DTSTART;TZID=UTC:20240914T140000
DTEND;TZID=UTC:20240914T140000
DTSTAMP:20260422T122702
CREATED:20240704T180029Z
LAST-MODIFIED:20241004T154312Z
UID:17893-1726322400-1726322400@silenceteatro.it
SUMMARY:Segni Bianchi - VERNAGO DI VAL SENALES (BZ)
DESCRIPTION:Performance d’improvvisazione sulla poesia del quotidiano.\n» Vai alla scheda dello spettacolo
URL:https://silenceteatro.it/event/segni-bianchi-14-09-2024/
LOCATION:VERNAGO DI VAL SENALES (BZ)
ATTACH;FMTTYPE=image/jpeg:https://silenceteatro.it/wp-content/uploads/2017/06/segni-17.jpg
END:VEVENT
END:VCALENDAR