BEGIN:VCALENDAR
VERSION:2.0
PRODID:-//Silence Teatro - ECPv6.15.20//NONSGML v1.0//EN
CALSCALE:GREGORIAN
METHOD:PUBLISH
X-ORIGINAL-URL:https://silenceteatro.it
X-WR-CALDESC:Eventi per Silence Teatro
REFRESH-INTERVAL;VALUE=DURATION:PT1H
X-Robots-Tag:noindex
X-PUBLISHED-TTL:PT1H
BEGIN:VTIMEZONE
TZID:UTC
BEGIN:STANDARD
TZOFFSETFROM:+0000
TZOFFSETTO:+0000
TZNAME:UTC
DTSTART:20230101T000000
END:STANDARD
END:VTIMEZONE
BEGIN:VEVENT
DTSTART;TZID=UTC:20240802T160000
DTEND;TZID=UTC:20240802T160000
DTSTAMP:20260422T135524
CREATED:20240620T000745Z
LAST-MODIFIED:20241004T153409Z
UID:17884-1722614400-1722614400@silenceteatro.it
SUMMARY:Come Angeli del Cielo - BRATTO/DORGA (BG)
DESCRIPTION:Performance itinerante per chi crede possibile assaporare la bellezza del sogno.\n» Vai alla scheda dello spettacolo
URL:https://silenceteatro.it/event/come-angeli-del-cielo-02-08-2024/
LOCATION:BRATTO/DORGA (BG)
ATTACH;FMTTYPE=image/jpeg:https://silenceteatro.it/wp-content/uploads/2017/06/angeli02-full.jpg
END:VEVENT
BEGIN:VEVENT
DTSTART;TZID=UTC:20240815T210000
DTEND;TZID=UTC:20240815T210000
DTSTAMP:20260422T135524
CREATED:20240620T001741Z
LAST-MODIFIED:20241004T153450Z
UID:17887-1723755600-1723755600@silenceteatro.it
SUMMARY:Come Angeli del Cielo - ISEO (BS)
DESCRIPTION:Performance itinerante per chi crede possibile assaporare la bellezza del sogno.\n» Vai alla scheda dello spettacolo
URL:https://silenceteatro.it/event/come-angeli-del-cielo-15-08-2024/
LOCATION:ISEO (BS)
ATTACH;FMTTYPE=image/jpeg:https://silenceteatro.it/wp-content/uploads/2017/06/angeli02-full.jpg
END:VEVENT
BEGIN:VEVENT
DTSTART;TZID=UTC:20240831T210000
DTEND;TZID=UTC:20240831T210000
DTSTAMP:20260422T135524
CREATED:20240819T170129Z
LAST-MODIFIED:20241004T154047Z
UID:18314-1725138000-1725138000@silenceteatro.it
SUMMARY:Come Angeli del Cielo - LAIVES (BZ)
DESCRIPTION:Performance itinerante per chi crede possibile assaporare la bellezza del sogno.\n» Vai alla scheda dello spettacolo
URL:https://silenceteatro.it/event/come-angeli-del-cielo-31-08-2024/
LOCATION:LAIVES (BZ)
ATTACH;FMTTYPE=image/jpeg:https://silenceteatro.it/wp-content/uploads/2017/06/angeli02-full.jpg
END:VEVENT
END:VCALENDAR