BEGIN:VCALENDAR
VERSION:2.0
PRODID:-//Silence Teatro - ECPv6.15.20//NONSGML v1.0//EN
CALSCALE:GREGORIAN
METHOD:PUBLISH
X-WR-CALNAME:Silence Teatro
X-ORIGINAL-URL:https://silenceteatro.it
X-WR-CALDESC:Eventi per Silence Teatro
REFRESH-INTERVAL;VALUE=DURATION:PT1H
X-Robots-Tag:noindex
X-PUBLISHED-TTL:PT1H
BEGIN:VTIMEZONE
TZID:UTC
BEGIN:STANDARD
TZOFFSETFROM:+0000
TZOFFSETTO:+0000
TZNAME:UTC
DTSTART:20230101T000000
END:STANDARD
END:VTIMEZONE
BEGIN:VEVENT
DTSTART;TZID=UTC:20240427T160000
DTEND;TZID=UTC:20240427T160000
DTSTAMP:20260422T193607
CREATED:20241004T000457Z
LAST-MODIFIED:20241004T000457Z
UID:18988-1714233600-1714233600@silenceteatro.it
SUMMARY:Beatles Fans - PORTO VECCHIO (Corsica – F)
DESCRIPTION:Performance itinerante ispirata dalle musiche e canzoni dei Beatles.\n» Vai alla scheda dello spettacolo
URL:https://silenceteatro.it/event/beatles-fans-27-04-2024/
LOCATION:PORTO VECCHIO (Corsica – F)
ATTACH;FMTTYPE=image/jpeg:https://silenceteatro.it/wp-content/uploads/2024/09/Beatles-1-450x600-1.jpg
END:VEVENT
END:VCALENDAR