BEGIN:VCALENDAR
VERSION:2.0
PRODID:-//Silence Teatro - ECPv6.15.20//NONSGML v1.0//EN
CALSCALE:GREGORIAN
METHOD:PUBLISH
X-WR-CALNAME:Silence Teatro
X-ORIGINAL-URL:https://silenceteatro.it
X-WR-CALDESC:Eventi per Silence Teatro
REFRESH-INTERVAL;VALUE=DURATION:PT1H
X-Robots-Tag:noindex
X-PUBLISHED-TTL:PT1H
BEGIN:VTIMEZONE
TZID:UTC
BEGIN:STANDARD
TZOFFSETFROM:+0000
TZOFFSETTO:+0000
TZNAME:UTC
DTSTART:20230101T000000
END:STANDARD
END:VTIMEZONE
BEGIN:VEVENT
DTSTART;TZID=UTC:20240114T150000
DTEND;TZID=UTC:20240114T150000
DTSTAMP:20260423T001611
CREATED:20241003T223919Z
LAST-MODIFIED:20241004T152337Z
UID:18970-1705244400-1705244400@silenceteatro.it
SUMMARY:Suggestioni Barocche - LOVERE (BG)
DESCRIPTION:Suggestioni Barocche\, un viaggio nel tempo e nei sentimenti.\n» Vai alla scheda dello spettacolo
URL:https://silenceteatro.it/event/suggestioni-barocche-14-01-2024/
LOCATION:LOVERE (BG)
ATTACH;FMTTYPE=image/jpeg:https://silenceteatro.it/wp-content/uploads/2024/05/11_800x532.jpg
END:VEVENT
END:VCALENDAR