BEGIN:VCALENDAR
VERSION:2.0
PRODID:-//Silence Teatro - ECPv6.15.20//NONSGML v1.0//EN
CALSCALE:GREGORIAN
METHOD:PUBLISH
X-ORIGINAL-URL:https://silenceteatro.it
X-WR-CALDESC:Eventi per Silence Teatro
REFRESH-INTERVAL;VALUE=DURATION:PT1H
X-Robots-Tag:noindex
X-PUBLISHED-TTL:PT1H
BEGIN:VTIMEZONE
TZID:UTC
BEGIN:STANDARD
TZOFFSETFROM:+0000
TZOFFSETTO:+0000
TZNAME:UTC
DTSTART:20240101T000000
END:STANDARD
END:VTIMEZONE
BEGIN:VEVENT
DTSTART;TZID=UTC:20251221T170000
DTEND;TZID=UTC:20251221T170000
DTSTAMP:20260423T001438
CREATED:20251122T204912Z
LAST-MODIFIED:20251122T204912Z
UID:19609-1766336400-1766336400@silenceteatro.it
SUMMARY:Come Angeli del Cielo - FROSINONE
DESCRIPTION:Performance itinerante per chi crede possibile assaporare la bellezza del sogno.\n» Vai alla scheda dello spettacolo
URL:https://silenceteatro.it/event/come-angeli-del-cielo-2025-12-21/
LOCATION:FROSINONE
ATTACH;FMTTYPE=image/jpeg:https://silenceteatro.it/wp-content/uploads/2024/10/angeli83-750x500-1.jpg
END:VEVENT
BEGIN:VEVENT
DTSTART;TZID=UTC:20251227T160000
DTEND;TZID=UTC:20251227T160000
DTSTAMP:20260423T001438
CREATED:20251122T205129Z
LAST-MODIFIED:20251122T205129Z
UID:19612-1766851200-1766851200@silenceteatro.it
SUMMARY:Come Angeli del Cielo - URBINO (PU)
DESCRIPTION:Performance itinerante per chi crede possibile assaporare la bellezza del sogno.\n» Vai alla scheda dello spettacolo
URL:https://silenceteatro.it/event/come-angeli-del-cielo-2025-12-27/
LOCATION:URBINO (PU)
ATTACH;FMTTYPE=image/jpeg:https://silenceteatro.it/wp-content/uploads/2024/10/angeli83-750x500-1.jpg
END:VEVENT
BEGIN:VEVENT
DTSTART;TZID=UTC:20251228T160000
DTEND;TZID=UTC:20251228T160000
DTSTAMP:20260423T001438
CREATED:20251122T205304Z
LAST-MODIFIED:20251122T205304Z
UID:19615-1766937600-1766937600@silenceteatro.it
SUMMARY:Come Angeli del Cielo - URBINO (PU)
DESCRIPTION:Performance itinerante per chi crede possibile assaporare la bellezza del sogno.\n» Vai alla scheda dello spettacolo
URL:https://silenceteatro.it/event/come-angeli-del-cielo-2025-12-28/
LOCATION:URBINO (PU)
ATTACH;FMTTYPE=image/jpeg:https://silenceteatro.it/wp-content/uploads/2024/10/angeli83-750x500-1.jpg
END:VEVENT
BEGIN:VEVENT
DTSTART;TZID=UTC:20260214T153000
DTEND;TZID=UTC:20260214T153000
DTSTAMP:20260423T001438
CREATED:20260128T162339Z
LAST-MODIFIED:20260418T211035Z
UID:19673-1771083000-1771083000@silenceteatro.it
SUMMARY:Come Angeli del Cielo - CLUSONE (BG)
DESCRIPTION:Performance itinerante per chi crede possibile assaporare la bellezza del sogno\n\n» Vai alla scheda dello spettacolo
URL:https://silenceteatro.it/event/come-angeli-del-cielo-2026-02-14-clusone/
LOCATION:CLUSONE (BG)\, - Fondazione Sant’Andrea
ATTACH;FMTTYPE=image/jpeg:https://silenceteatro.it/wp-content/uploads/2024/10/angeli83-750x500-1.jpg
END:VEVENT
BEGIN:VEVENT
DTSTART;TZID=UTC:20260214T160000
DTEND;TZID=UTC:20260214T160000
DTSTAMP:20260423T001438
CREATED:20260128T164143Z
LAST-MODIFIED:20260418T210947Z
UID:19680-1771084800-1771084800@silenceteatro.it
SUMMARY:Come Angeli del Cielo - CIVITANOVA MARCHE (MC)
DESCRIPTION:Performance itinerante per chi crede possibile assaporare la bellezza del sogno\n\n» Vai alla scheda dello spettacolo
URL:https://silenceteatro.it/event/come-angeli-del-cielo-2026-02-14-civitanova-marche/
LOCATION:CIVITANOVA MARCHE (MC)\, - Centro Commerciale “Il Cuore Adriatico”
ATTACH;FMTTYPE=image/jpeg:https://silenceteatro.it/wp-content/uploads/2024/10/angeli83-750x500-1.jpg
END:VEVENT
BEGIN:VEVENT
DTSTART;TZID=UTC:20260217T173000
DTEND;TZID=UTC:20260217T173000
DTSTAMP:20260423T001438
CREATED:20260209T235803Z
LAST-MODIFIED:20260418T210901Z
UID:19698-1771349400-1771349400@silenceteatro.it
SUMMARY:Come Angeli del Cielo - CORTINA d’AMPEZZO (BL)
DESCRIPTION:Performance itinerante per chi crede possibile assaporare la bellezza del sogno\n\n» Vai alla scheda dello spettacolo
URL:https://silenceteatro.it/event/come-angeli-del-cielo-2026-02-17/
LOCATION:CORTINA d’AMPEZZO (BL)\, - Corso Italia
ATTACH;FMTTYPE=image/jpeg:https://silenceteatro.it/wp-content/uploads/2024/10/angeli83-750x500-1.jpg
END:VEVENT
BEGIN:VEVENT
DTSTART;TZID=UTC:20260326T210000
DTEND;TZID=UTC:20260326T210000
DTSTAMP:20260423T001438
CREATED:20260128T165342Z
LAST-MODIFIED:20260418T151941Z
UID:19682-1774558800-1774558800@silenceteatro.it
SUMMARY:Io\, Me Stesso... E Altre Cose - DARFO BOARIO TERME (BS)
DESCRIPTION:Teatro e Disagio – Teatro e Malattia mentale\n» Vai alla scheda dello spettacolo
URL:https://silenceteatro.it/event/io-me-stesso-e-altre-cose-2026-03-26/
LOCATION:DARFO BOARIO TERME (BS)\, - Teatro San Filippo Neri
ATTACH;FMTTYPE=image/jpeg:https://silenceteatro.it/wp-content/uploads/2024/10/io-me-stesso-13-510x530-1.jpg
END:VEVENT
BEGIN:VEVENT
DTSTART;TZID=UTC:20260410T163000
DTEND;TZID=UTC:20260410T163000
DTSTAMP:20260423T001438
CREATED:20260210T002042Z
LAST-MODIFIED:20260418T152010Z
UID:19702-1775838600-1775838600@silenceteatro.it
SUMMARY:Segni Bianchi - TRABZON (Turchia)
DESCRIPTION:Performance d’improvvisazione sulla poesia del quotidiano\n» Vai alla scheda dello spettacolo
URL:https://silenceteatro.it/event/segni-bianchi-2026-04-10/
LOCATION:TRABZON (Turchia)\, - Meydan Parki
ATTACH;FMTTYPE=image/jpeg:https://silenceteatro.it/wp-content/uploads/2017/06/segni-17.jpg
END:VEVENT
BEGIN:VEVENT
DTSTART;VALUE=DATE:20260423
DTEND;VALUE=DATE:20260426
DTSTAMP:20260423T001438
CREATED:20260330T162257Z
LAST-MODIFIED:20260330T164900Z
UID:19724-1776902400-1777161599@silenceteatro.it
SUMMARY:Segni Bianchi - DENIZLI (Turchia) - Children and Youth Theatre Festival
DESCRIPTION:Performance d’improvvisazione sulla poesia del quotidiano\n» Vai alla scheda dello spettacolo
URL:https://silenceteatro.it/event/segni-bianchi-23-25-aprile-2026/
LOCATION:DENIZLI (Turchia)
ATTACH;FMTTYPE=image/jpeg:https://silenceteatro.it/wp-content/uploads/2017/06/segni-17.jpg
END:VEVENT
BEGIN:VEVENT
DTSTART;TZID=UTC:20260503T163000
DTEND;TZID=UTC:20260503T163000
DTSTAMP:20260423T001438
CREATED:20260418T150924Z
LAST-MODIFIED:20260419T150138Z
UID:19848-1777825800-1777825800@silenceteatro.it
SUMMARY:Suggestioni Barocche - LOVERE (BG)\, motonave “La Capitanio”
DESCRIPTION:Performance a bordo della motonave “La Capitanio” in occasione del suo centenario\n\nSuggestioni Barocche\, un viaggio nel tempo e nei sentimenti\n» Vai alla scheda dello spettacolo
URL:https://silenceteatro.it/event/suggestioni-barocche-2026-05-03/
LOCATION:LOVERE (BG) – Motonave “La Capitanio”
ATTACH;FMTTYPE=image/jpeg:https://silenceteatro.it/wp-content/uploads/2024/05/11_800x532.jpg
END:VEVENT
BEGIN:VEVENT
DTSTART;TZID=UTC:20260704T170000
DTEND;TZID=UTC:20260704T170000
DTSTAMP:20260423T001438
CREATED:20260210T005503Z
LAST-MODIFIED:20260418T210637Z
UID:19707-1783184400-1783184400@silenceteatro.it
SUMMARY:Suggestioni Barocche - ALA (TN)
DESCRIPTION:Suggestioni Barocche\, un viaggio nel tempo e nei sentimenti\n\n» Vai alla scheda dello spettacolo
URL:https://silenceteatro.it/event/suggestioni-barocche-2026-07-04/
LOCATION:ALA (TN)\, - Centro storico
ATTACH;FMTTYPE=image/jpeg:https://silenceteatro.it/wp-content/uploads/2024/05/11_800x532.jpg
END:VEVENT
BEGIN:VEVENT
DTSTART;TZID=UTC:20260711T180000
DTEND;TZID=UTC:20260711T180000
DTSTAMP:20260423T001438
CREATED:20260418T182530Z
LAST-MODIFIED:20260418T210513Z
UID:19907-1783792800-1783792800@silenceteatro.it
SUMMARY:Come Angeli del Cielo - PONTE DI LEGNO (BS)
DESCRIPTION:Performance itinerante per chi crede possibile assaporare la bellezza del sogno\n\n» Vai alla scheda dello spettacolo
URL:https://silenceteatro.it/event/come-angeli-del-cielo-2026-07-11/
LOCATION:PONTE DI LEGNO (BS)\, - Centro storico
ATTACH;FMTTYPE=image/jpeg:https://silenceteatro.it/wp-content/uploads/2024/10/angeli83-750x500-1.jpg
END:VEVENT
BEGIN:VEVENT
DTSTART;TZID=UTC:20260802T210000
DTEND;TZID=UTC:20260802T210000
DTSTAMP:20260423T001438
CREATED:20260330T164605Z
LAST-MODIFIED:20260418T210412Z
UID:19728-1785704400-1785704400@silenceteatro.it
SUMMARY:Come Angeli del Cielo - GEROSA (BG)
DESCRIPTION:Performance itinerante per chi crede possibile assaporare la bellezza del sogno\n\n» Vai alla scheda dello spettacolo
URL:https://silenceteatro.it/event/come-angeli-del-cielo-2026-08-02/
LOCATION:GEROSA (BG)\, - Centro storico
ATTACH;FMTTYPE=image/jpeg:https://silenceteatro.it/wp-content/uploads/2024/10/angeli83-750x500-1.jpg
END:VEVENT
END:VCALENDAR