BEGIN:VCALENDAR
VERSION:2.0
PRODID:-//Silence Teatro - ECPv6.15.20//NONSGML v1.0//EN
CALSCALE:GREGORIAN
METHOD:PUBLISH
X-ORIGINAL-URL:https://silenceteatro.it
X-WR-CALDESC:Eventi per Silence Teatro
REFRESH-INTERVAL;VALUE=DURATION:PT1H
X-Robots-Tag:noindex
X-PUBLISHED-TTL:PT1H
BEGIN:VTIMEZONE
TZID:UTC
BEGIN:STANDARD
TZOFFSETFROM:+0000
TZOFFSETTO:+0000
TZNAME:UTC
DTSTART:20250101T000000
END:STANDARD
END:VTIMEZONE
BEGIN:VEVENT
DTSTART;TZID=UTC:20260217T173000
DTEND;TZID=UTC:20260217T173000
DTSTAMP:20260421T132858
CREATED:20260209T235803Z
LAST-MODIFIED:20260418T210901Z
UID:19698-1771349400-1771349400@silenceteatro.it
SUMMARY:Come Angeli del Cielo - CORTINA d’AMPEZZO (BL)
DESCRIPTION:Performance itinerante per chi crede possibile assaporare la bellezza del sogno\n\n» Vai alla scheda dello spettacolo
URL:https://silenceteatro.it/event/come-angeli-del-cielo-2026-02-17/
LOCATION:CORTINA d’AMPEZZO (BL)\, - Corso Italia
ATTACH;FMTTYPE=image/jpeg:https://silenceteatro.it/wp-content/uploads/2024/10/angeli83-750x500-1.jpg
END:VEVENT
END:VCALENDAR