BEGIN:VCALENDAR
VERSION:2.0
PRODID:-//Silence Teatro - ECPv6.15.20//NONSGML v1.0//EN
CALSCALE:GREGORIAN
METHOD:PUBLISH
X-WR-CALNAME:Silence Teatro
X-ORIGINAL-URL:https://silenceteatro.it
X-WR-CALDESC:Eventi per Silence Teatro
REFRESH-INTERVAL;VALUE=DURATION:PT1H
X-Robots-Tag:noindex
X-PUBLISHED-TTL:PT1H
BEGIN:VTIMEZONE
TZID:UTC
BEGIN:STANDARD
TZOFFSETFROM:+0000
TZOFFSETTO:+0000
TZNAME:UTC
DTSTART:20230101T000000
END:STANDARD
END:VTIMEZONE
BEGIN:VEVENT
DTSTART;TZID=UTC:20241221T160000
DTEND;TZID=UTC:20241221T160000
DTSTAMP:20260422T092734
CREATED:20241027T174110Z
LAST-MODIFIED:20241027T174110Z
UID:19181-1734796800-1734796800@silenceteatro.it
SUMMARY:Come Angeli del Cielo - LEGNANO (MI)
DESCRIPTION:Performance itinerante per chi crede possibile assaporare la bellezza del sogno.\n» Vai alla scheda dello spettacolo
URL:https://silenceteatro.it/event/come-angeli-del-cielo-21-12-2024/
LOCATION:LEGNANO (MI)
ATTACH;FMTTYPE=image/jpeg:https://silenceteatro.it/wp-content/uploads/2024/10/angeli83-750x500-1.jpg
END:VEVENT
END:VCALENDAR