BEGIN:VCALENDAR
VERSION:2.0
PRODID:-//Silence Teatro - ECPv6.15.20//NONSGML v1.0//EN
CALSCALE:GREGORIAN
METHOD:PUBLISH
X-ORIGINAL-URL:https://silenceteatro.it/en/
X-WR-CALDESC:Events for Silence Teatro
REFRESH-INTERVAL;VALUE=DURATION:PT1H
X-Robots-Tag:noindex
X-PUBLISHED-TTL:PT1H
BEGIN:VTIMEZONE
TZID:UTC
BEGIN:STANDARD
TZOFFSETFROM:+0000
TZOFFSETTO:+0000
TZNAME:UTC
DTSTART:20240101T000000
END:STANDARD
END:VTIMEZONE
BEGIN:VEVENT
DTSTART;TZID=UTC:20251129T210000
DTEND;TZID=UTC:20251129T210000
DTSTAMP:20260423T001020
CREATED:20251026T235006Z
LAST-MODIFIED:20251027T001736Z
UID:19592-1764450000-1764450000@silenceteatro.it
SUMMARY:(R)Esistenze -   FARA GERA D’ADDA (BG)
DESCRIPTION:Only in Italian language
URL:https://silenceteatro.it/en/event/resistenze-2025-11-29/
LOCATION:FARA GERA D’ADDA (BG)
ATTACH;FMTTYPE=image/jpeg:https://silenceteatro.it/wp-content/uploads/2024/06/Resistenze-15-800x533-1.jpg
END:VEVENT
BEGIN:VEVENT
DTSTART;TZID=UTC:20251207T160000
DTEND;TZID=UTC:20251207T160000
DTSTAMP:20260423T001020
CREATED:20251026T235718Z
LAST-MODIFIED:20251027T002046Z
UID:19593-1765123200-1765123200@silenceteatro.it
SUMMARY:Like Angels of the Heaven - FAGAGNA (UD)
DESCRIPTION:Itinerant performance for those who believe it is possible to savor the beauty of the dream.\n» Go to the performance page \n 
URL:https://silenceteatro.it/en/event/like-angels-of-the-heaven-2025-12-07/
LOCATION:FAGAGNA (UD)
ATTACH;FMTTYPE=image/jpeg:https://silenceteatro.it/wp-content/uploads/2024/10/angeli83-750x500-1.jpg
END:VEVENT
BEGIN:VEVENT
DTSTART;TZID=UTC:20251213T160000
DTEND;TZID=UTC:20251213T160000
DTSTAMP:20260423T001020
CREATED:20251122T193535Z
LAST-MODIFIED:20251122T230225Z
UID:19617-1765641600-1765641600@silenceteatro.it
SUMMARY:Like Angels of the Heaven - VARESE
DESCRIPTION:Itinerant performance for those who believe it is possible to savor the beauty of the dream.\n» Go to the performance page \n 
URL:https://silenceteatro.it/en/event/like-angels-of-the-heaven-2025-12-13/
LOCATION:VARESE
ATTACH;FMTTYPE=image/jpeg:https://silenceteatro.it/wp-content/uploads/2024/10/angeli83-750x500-1.jpg
END:VEVENT
BEGIN:VEVENT
DTSTART;TZID=UTC:20251214T160000
DTEND;TZID=UTC:20251214T160000
DTSTAMP:20260423T001020
CREATED:20251122T204614Z
LAST-MODIFIED:20251122T230434Z
UID:19618-1765728000-1765728000@silenceteatro.it
SUMMARY:Like Angels of the Heaven - SOLBIATE OLONA (VA)
DESCRIPTION:Itinerant performance for those who believe it is possible to savor the beauty of the dream.\n» Go to the performance page \n 
URL:https://silenceteatro.it/en/event/like-angels-of-the-heaven-2025-12-14/
LOCATION:SOLBIATE OLONA (VA)
ATTACH;FMTTYPE=image/jpeg:https://silenceteatro.it/wp-content/uploads/2024/10/angeli83-750x500-1.jpg
END:VEVENT
BEGIN:VEVENT
DTSTART;TZID=UTC:20251221T170000
DTEND;TZID=UTC:20251221T170000
DTSTAMP:20260423T001020
CREATED:20251122T204912Z
LAST-MODIFIED:20251122T230628Z
UID:19619-1766336400-1766336400@silenceteatro.it
SUMMARY:Like Angels of the Heaven - FROSINONE
DESCRIPTION:Itinerant performance for those who believe it is possible to savor the beauty of the dream.\n» Go to the performance page \n 
URL:https://silenceteatro.it/en/event/like-angels-of-the-heaven-2025-12-21/
LOCATION:FROSINONE
ATTACH;FMTTYPE=image/jpeg:https://silenceteatro.it/wp-content/uploads/2024/10/angeli83-750x500-1.jpg
END:VEVENT
BEGIN:VEVENT
DTSTART;TZID=UTC:20251227T160000
DTEND;TZID=UTC:20251227T160000
DTSTAMP:20260423T001020
CREATED:20251122T205129Z
LAST-MODIFIED:20251122T230827Z
UID:19620-1766851200-1766851200@silenceteatro.it
SUMMARY:Like Angels of the Heaven - URBINO (PU)
DESCRIPTION:Itinerant performance for those who believe it is possible to savor the beauty of the dream.\n» Go to the performance page \n 
URL:https://silenceteatro.it/en/event/like-angels-of-the-heaven-2025-12-27/
LOCATION:URBINO (PU)
ATTACH;FMTTYPE=image/jpeg:https://silenceteatro.it/wp-content/uploads/2024/10/angeli83-750x500-1.jpg
END:VEVENT
BEGIN:VEVENT
DTSTART;TZID=UTC:20251228T160000
DTEND;TZID=UTC:20251228T160000
DTSTAMP:20260423T001020
CREATED:20251122T205304Z
LAST-MODIFIED:20251122T231022Z
UID:19621-1766937600-1766937600@silenceteatro.it
SUMMARY:Like Angels of the Heaven - URBINO (PU)
DESCRIPTION:Itinerant performance for those who believe it is possible to savor the beauty of the dream.\n» Go to the performance page \n 
URL:https://silenceteatro.it/en/event/like-angels-of-the-heaven-2025-12-28/
LOCATION:URBINO (PU)
ATTACH;FMTTYPE=image/jpeg:https://silenceteatro.it/wp-content/uploads/2024/10/angeli83-750x500-1.jpg
END:VEVENT
BEGIN:VEVENT
DTSTART;TZID=UTC:20260214T153000
DTEND;TZID=UTC:20260214T153000
DTSTAMP:20260423T001020
CREATED:20260128T162339Z
LAST-MODIFIED:20260418T211459Z
UID:19686-1771083000-1771083000@silenceteatro.it
SUMMARY:Like Angels of the Heaven - CLUSONE (BG)
DESCRIPTION:Itinerant performance for those who believe it is possible to savor the beauty of the dream.\n\n» Go to the performance page \n 
URL:https://silenceteatro.it/en/event/like-angels-of-the-heaven-2026-02-14-clusone/
LOCATION:CLUSONE (BG)\, - Fondazione Sant’Andrea
ATTACH;FMTTYPE=image/jpeg:https://silenceteatro.it/wp-content/uploads/2024/10/angeli83-750x500-1.jpg
END:VEVENT
BEGIN:VEVENT
DTSTART;TZID=UTC:20260214T160000
DTEND;TZID=UTC:20260214T160000
DTSTAMP:20260423T001020
CREATED:20260128T164143Z
LAST-MODIFIED:20260418T211413Z
UID:19687-1771084800-1771084800@silenceteatro.it
SUMMARY:Like Angels of the Heaven - CIVITANOVA MARCHE (MC)
DESCRIPTION:Itinerant performance for those who believe it is possible to savor the beauty of the dream.\n\n» Go to the performance page \n 
URL:https://silenceteatro.it/en/event/like-angels-of-the-heaven-2026-02-14-civitanova-marche/
LOCATION:CIVITANOVA MARCHE (MC)\, - Centro Commerciale “Il Cuore Adriatico”
ATTACH;FMTTYPE=image/jpeg:https://silenceteatro.it/wp-content/uploads/2024/10/angeli83-750x500-1.jpg
END:VEVENT
BEGIN:VEVENT
DTSTART;TZID=UTC:20260217T173000
DTEND;TZID=UTC:20260217T173000
DTSTAMP:20260423T001020
CREATED:20260209T235803Z
LAST-MODIFIED:20260418T211313Z
UID:19713-1771349400-1771349400@silenceteatro.it
SUMMARY:Like Angels of the Heaven - CORTINA d’AMPEZZO (BL)
DESCRIPTION:Itinerant performance for those who believe it is possible to savor the beauty of the dream.\n\n» Go to the performance page \n 
URL:https://silenceteatro.it/en/event/like-angels-of-the-heaven-2026-02-17/
LOCATION:CORTINA d’AMPEZZO (BL)\, - Corso Italia
ATTACH;FMTTYPE=image/jpeg:https://silenceteatro.it/wp-content/uploads/2024/10/angeli83-750x500-1.jpg
END:VEVENT
BEGIN:VEVENT
DTSTART;TZID=UTC:20260326T210000
DTEND;TZID=UTC:20260326T210000
DTSTAMP:20260423T001020
CREATED:20260128T165342Z
LAST-MODIFIED:20260418T205441Z
UID:19688-1774558800-1774558800@silenceteatro.it
SUMMARY:Io\, Me Stesso... E Altre Cose - DARFO BOARIO TERME (BS)
DESCRIPTION:Only in Italian language\nTeatro e Disagio – Teatro e Malattia mentale\n» Go to the performance page (in italian)
URL:https://silenceteatro.it/en/event/io-me-stesso-e-altre-cose-2026-03-26/
LOCATION:DARFO BOARIO TERME (BS)\, - Teatro San Filippo Neri
ATTACH;FMTTYPE=image/jpeg:https://silenceteatro.it/wp-content/uploads/2024/10/io-me-stesso-13-510x530-1.jpg
END:VEVENT
BEGIN:VEVENT
DTSTART;TZID=UTC:20260410T163000
DTEND;TZID=UTC:20260410T163000
DTSTAMP:20260423T001020
CREATED:20260210T002042Z
LAST-MODIFIED:20260418T205459Z
UID:19712-1775838600-1775838600@silenceteatro.it
SUMMARY:White Signs - TRABZON (Turchia)
DESCRIPTION:Improvvisation performance on the poetry of daily life\n» Go to the performance page \n 
URL:https://silenceteatro.it/en/event/white-signs-2026-04-10/
LOCATION:TRABZON (Turchia)\, - Meydan Parki
ATTACH;FMTTYPE=image/jpeg:https://silenceteatro.it/wp-content/uploads/2017/06/segni-17.jpg
END:VEVENT
BEGIN:VEVENT
DTSTART;VALUE=DATE:20260423
DTEND;VALUE=DATE:20260426
DTSTAMP:20260423T001020
CREATED:20260330T162257Z
LAST-MODIFIED:20260330T174318Z
UID:19733-1776902400-1777161599@silenceteatro.it
SUMMARY:White Signs - DENIZLI (Turchia) - Children and Youth Theatre Festival
DESCRIPTION:Improvvisation performance on the poetry of daily life\n» Go to the performance page \n 
URL:https://silenceteatro.it/en/event/white-signs-23-25-aprile-2026/
LOCATION:DENIZLI (Turchia)
ATTACH;FMTTYPE=image/jpeg:https://silenceteatro.it/wp-content/uploads/2017/06/segni-17.jpg
END:VEVENT
BEGIN:VEVENT
DTSTART;TZID=UTC:20260503T163000
DTEND;TZID=UTC:20260503T163000
DTSTAMP:20260423T001020
CREATED:20260418T150924Z
LAST-MODIFIED:20260419T150310Z
UID:19909-1777825800-1777825800@silenceteatro.it
SUMMARY:Baroque Suggestions - LOVERE (BG)\, motor vessel “La Capitanio”
DESCRIPTION:Performance aboard the motor vessel “La Capitanio” on the occasion of its centenary\n\nBaroque Suggestions\, a journey through time and feelings\n» Go to the performance page \n 
URL:https://silenceteatro.it/en/event/baroque-suggestions-2026-05-03/
LOCATION:LOVERE (BG) – Motor vessel “La Capitanio”
ATTACH;FMTTYPE=image/jpeg:https://silenceteatro.it/wp-content/uploads/2024/05/11_800x532.jpg
END:VEVENT
BEGIN:VEVENT
DTSTART;TZID=UTC:20260704T170000
DTEND;TZID=UTC:20260704T170000
DTSTAMP:20260423T001020
CREATED:20260210T005503Z
LAST-MODIFIED:20260418T184558Z
UID:19711-1783184400-1783184400@silenceteatro.it
SUMMARY:Baroque Suggestions - ALA (TN)
DESCRIPTION:A journey through time and feelings\n» Go to the performance page \n 
URL:https://silenceteatro.it/en/event/baroque-suggestions-2026-07-04/
LOCATION:ALA (TN)\, - Centro storico
ATTACH;FMTTYPE=image/jpeg:https://silenceteatro.it/wp-content/uploads/2024/05/11_800x532.jpg
END:VEVENT
BEGIN:VEVENT
DTSTART;TZID=UTC:20260711T180000
DTEND;TZID=UTC:20260711T180000
DTSTAMP:20260423T001020
CREATED:20260418T182530Z
LAST-MODIFIED:20260418T205934Z
UID:19910-1783792800-1783792800@silenceteatro.it
SUMMARY:Like Angels of the Heaven - PONTE DI LEGNO (BS)
DESCRIPTION:Itinerant performance for those who believe it is possible to savor the beauty of the dream.\n\n» Go to the performance page
URL:https://silenceteatro.it/en/event/like-angels-of-the-heaven-2026-07-11/
LOCATION:PONTE DI LEGNO (BS)\, - Centro storico
ATTACH;FMTTYPE=image/jpeg:https://silenceteatro.it/wp-content/uploads/2024/10/angeli83-750x500-1.jpg
END:VEVENT
BEGIN:VEVENT
DTSTART;TZID=UTC:20260802T210000
DTEND;TZID=UTC:20260802T210000
DTSTAMP:20260423T001020
CREATED:20260330T164605Z
LAST-MODIFIED:20260418T205025Z
UID:19734-1785704400-1785704400@silenceteatro.it
SUMMARY:Like Angels of the Heaven - GEROSA (BG)
DESCRIPTION:Itinerant performance for those who believe it is possible to savor the beauty of the dream.\n\n» Go to the performance page \n 
URL:https://silenceteatro.it/en/event/like-angels-of-the-heaven-2026-08-02/
LOCATION:GEROSA (BG)\, - Centro storico
ATTACH;FMTTYPE=image/jpeg:https://silenceteatro.it/wp-content/uploads/2024/10/angeli83-750x500-1.jpg
END:VEVENT
END:VCALENDAR