BEGIN:VCALENDAR
VERSION:2.0
PRODID:-//Silence Teatro - ECPv6.15.20//NONSGML v1.0//EN
CALSCALE:GREGORIAN
METHOD:PUBLISH
X-WR-CALNAME:Silence Teatro
X-ORIGINAL-URL:https://silenceteatro.it/en/
X-WR-CALDESC:Events for Silence Teatro
REFRESH-INTERVAL;VALUE=DURATION:PT1H
X-Robots-Tag:noindex
X-PUBLISHED-TTL:PT1H
BEGIN:VTIMEZONE
TZID:UTC
BEGIN:STANDARD
TZOFFSETFROM:+0000
TZOFFSETTO:+0000
TZNAME:UTC
DTSTART:20250101T000000
END:STANDARD
END:VTIMEZONE
BEGIN:VEVENT
DTSTART;TZID=UTC:20260802T210000
DTEND;TZID=UTC:20260802T210000
DTSTAMP:20260420T023654
CREATED:20260330T164605Z
LAST-MODIFIED:20260418T205025Z
UID:19734-1785704400-1785704400@silenceteatro.it
SUMMARY:Like Angels of the Heaven - GEROSA (BG)
DESCRIPTION:Itinerant performance for those who believe it is possible to savor the beauty of the dream.\n\n» Go to the performance page \n 
URL:https://silenceteatro.it/en/event/like-angels-of-the-heaven-2026-08-02/
LOCATION:GEROSA (BG)\, - Centro storico
ATTACH;FMTTYPE=image/jpeg:https://silenceteatro.it/wp-content/uploads/2024/10/angeli83-750x500-1.jpg
END:VEVENT
END:VCALENDAR