BEGIN:VCALENDAR
VERSION:2.0
PRODID:-//Silence Teatro - ECPv6.15.20//NONSGML v1.0//EN
CALSCALE:GREGORIAN
METHOD:PUBLISH
X-WR-CALNAME:Silence Teatro
X-ORIGINAL-URL:https://silenceteatro.it/en/
X-WR-CALDESC:Events for Silence Teatro
REFRESH-INTERVAL;VALUE=DURATION:PT1H
X-Robots-Tag:noindex
X-PUBLISHED-TTL:PT1H
BEGIN:VTIMEZONE
TZID:UTC
BEGIN:STANDARD
TZOFFSETFROM:+0000
TZOFFSETTO:+0000
TZNAME:UTC
DTSTART:20250101T000000
END:STANDARD
END:VTIMEZONE
BEGIN:VEVENT
DTSTART;TZID=UTC:20260704T170000
DTEND;TZID=UTC:20260704T170000
DTSTAMP:20260420T094153
CREATED:20260210T005503Z
LAST-MODIFIED:20260418T184558Z
UID:19711-1783184400-1783184400@silenceteatro.it
SUMMARY:Baroque Suggestions - ALA (TN)
DESCRIPTION:A journey through time and feelings\n» Go to the performance page \n 
URL:https://silenceteatro.it/en/event/baroque-suggestions-2026-07-04/
LOCATION:ALA (TN)\, - Centro storico
ATTACH;FMTTYPE=image/jpeg:https://silenceteatro.it/wp-content/uploads/2024/05/11_800x532.jpg
END:VEVENT
BEGIN:VEVENT
DTSTART;TZID=UTC:20260711T180000
DTEND;TZID=UTC:20260711T180000
DTSTAMP:20260420T094153
CREATED:20260418T182530Z
LAST-MODIFIED:20260418T205934Z
UID:19910-1783792800-1783792800@silenceteatro.it
SUMMARY:Like Angels of the Heaven - PONTE DI LEGNO (BS)
DESCRIPTION:Itinerant performance for those who believe it is possible to savor the beauty of the dream.\n\n» Go to the performance page
URL:https://silenceteatro.it/en/event/like-angels-of-the-heaven-2026-07-11/
LOCATION:PONTE DI LEGNO (BS)\, - Centro storico
ATTACH;FMTTYPE=image/jpeg:https://silenceteatro.it/wp-content/uploads/2024/10/angeli83-750x500-1.jpg
END:VEVENT
BEGIN:VEVENT
DTSTART;TZID=UTC:20260802T210000
DTEND;TZID=UTC:20260802T210000
DTSTAMP:20260420T094153
CREATED:20260330T164605Z
LAST-MODIFIED:20260418T205025Z
UID:19734-1785704400-1785704400@silenceteatro.it
SUMMARY:Like Angels of the Heaven - GEROSA (BG)
DESCRIPTION:Itinerant performance for those who believe it is possible to savor the beauty of the dream.\n\n» Go to the performance page \n 
URL:https://silenceteatro.it/en/event/like-angels-of-the-heaven-2026-08-02/
LOCATION:GEROSA (BG)\, - Centro storico
ATTACH;FMTTYPE=image/jpeg:https://silenceteatro.it/wp-content/uploads/2024/10/angeli83-750x500-1.jpg
END:VEVENT
END:VCALENDAR