BEGIN:VCALENDAR
VERSION:2.0
PRODID:-//Silence Teatro - ECPv6.15.20//NONSGML v1.0//EN
CALSCALE:GREGORIAN
METHOD:PUBLISH
X-WR-CALNAME:Silence Teatro
X-ORIGINAL-URL:https://silenceteatro.it/en/
X-WR-CALDESC:Events for Silence Teatro
REFRESH-INTERVAL;VALUE=DURATION:PT1H
X-Robots-Tag:noindex
X-PUBLISHED-TTL:PT1H
BEGIN:VTIMEZONE
TZID:UTC
BEGIN:STANDARD
TZOFFSETFROM:+0000
TZOFFSETTO:+0000
TZNAME:UTC
DTSTART:20230101T000000
END:STANDARD
END:VTIMEZONE
BEGIN:VEVENT
DTSTART;TZID=UTC:20240218T150000
DTEND;TZID=UTC:20240218T150000
DTSTAMP:20260423T000703
CREATED:20241003T233409Z
LAST-MODIFIED:20241004T225815Z
UID:19023-1708268400-1708268400@silenceteatro.it
SUMMARY:Baroque Suggestions - VIAREGGIO (LU)
DESCRIPTION:A journey through time and feelings.\n» Go to the performance page
URL:https://silenceteatro.it/en/event/baroque-suggestions-18-02-2024/
LOCATION:VIAREGGIO (LU)
ATTACH;FMTTYPE=image/jpeg:https://silenceteatro.it/wp-content/uploads/2024/05/11_800x532.jpg
END:VEVENT
BEGIN:VEVENT
DTSTART;TZID=UTC:20240213T150000
DTEND;TZID=UTC:20240213T150000
DTSTAMP:20260423T000703
CREATED:20241003T232901Z
LAST-MODIFIED:20241004T230041Z
UID:19024-1707836400-1707836400@silenceteatro.it
SUMMARY:Baroque Suggestions - VIAREGGIO (LU)
DESCRIPTION:A journey through time and feelings.\n» Go to the performance page
URL:https://silenceteatro.it/en/event/baroque-suggestions-13-02-2024/
LOCATION:VIAREGGIO (LU)
ATTACH;FMTTYPE=image/jpeg:https://silenceteatro.it/wp-content/uploads/2024/05/11_800x532.jpg
END:VEVENT
BEGIN:VEVENT
DTSTART;TZID=UTC:20240203T160000
DTEND;TZID=UTC:20240203T160000
DTSTAMP:20260423T000704
CREATED:20241003T230251Z
LAST-MODIFIED:20241004T230228Z
UID:19025-1706976000-1706976000@silenceteatro.it
SUMMARY:Baroque Suggestions - VIAREGGIO (LU)
DESCRIPTION:A journey through time and feelings.\n» Go to the performance page
URL:https://silenceteatro.it/en/event/baroque-suggestions-03-02-2024/
LOCATION:VIAREGGIO (LU)
ATTACH;FMTTYPE=image/jpeg:https://silenceteatro.it/wp-content/uploads/2024/05/11_800x532.jpg
END:VEVENT
BEGIN:VEVENT
DTSTART;TZID=UTC:20240114T150000
DTEND;TZID=UTC:20240114T150000
DTSTAMP:20260423T000704
CREATED:20241003T223919Z
LAST-MODIFIED:20241004T230403Z
UID:19026-1705244400-1705244400@silenceteatro.it
SUMMARY:Baroque Suggestions - LOVERE (BG)
DESCRIPTION:A journey through time and feelings.\n» Go to the performance page
URL:https://silenceteatro.it/en/event/baroque-suggestions-14-01-2024/
LOCATION:LOVERE (BG)
ATTACH;FMTTYPE=image/jpeg:https://silenceteatro.it/wp-content/uploads/2024/05/11_800x532.jpg
END:VEVENT
END:VCALENDAR