BEGIN:VCALENDAR
VERSION:2.0
PRODID:-//Silence Teatro - ECPv6.15.20//NONSGML v1.0//EN
CALSCALE:GREGORIAN
METHOD:PUBLISH
X-ORIGINAL-URL:https://silenceteatro.it/en/
X-WR-CALDESC:Events for Silence Teatro
REFRESH-INTERVAL;VALUE=DURATION:PT1H
X-Robots-Tag:noindex
X-PUBLISHED-TTL:PT1H
BEGIN:VTIMEZONE
TZID:UTC
BEGIN:STANDARD
TZOFFSETFROM:+0000
TZOFFSETTO:+0000
TZNAME:UTC
DTSTART:20230101T000000
END:STANDARD
END:VTIMEZONE
BEGIN:VEVENT
DTSTART;TZID=UTC:20241130T210000
DTEND;TZID=UTC:20241130T210000
DTSTAMP:20260422T020734
CREATED:20241117T202117Z
LAST-MODIFIED:20241117T203512Z
UID:19203-1733000400-1733000400@silenceteatro.it
SUMMARY:(R)Esistenze -  PONTE DI LEGNO (BS)
DESCRIPTION:Only in Italian language
URL:https://silenceteatro.it/en/event/resistenze-30-11-2024/
LOCATION:PONTE DI LEGNO (BS)\, - Centro storico
ATTACH;FMTTYPE=image/jpeg:https://silenceteatro.it/wp-content/uploads/2024/06/Resistenze-15-800x533-1.jpg
END:VEVENT
END:VCALENDAR