BEGIN:VCALENDAR
VERSION:2.0
PRODID:-//Silence Teatro - ECPv6.15.20//NONSGML v1.0//EN
CALSCALE:GREGORIAN
METHOD:PUBLISH
X-WR-CALNAME:Silence Teatro
X-ORIGINAL-URL:https://silenceteatro.it/en/
X-WR-CALDESC:Events for Silence Teatro
REFRESH-INTERVAL;VALUE=DURATION:PT1H
X-Robots-Tag:noindex
X-PUBLISHED-TTL:PT1H
BEGIN:VTIMEZONE
TZID:UTC
BEGIN:STANDARD
TZOFFSETFROM:+0000
TZOFFSETTO:+0000
TZNAME:UTC
DTSTART:20230101T000000
END:STANDARD
END:VTIMEZONE
BEGIN:VEVENT
DTSTART;TZID=UTC:20241123T203000
DTEND;TZID=UTC:20241123T203000
DTSTAMP:20260422T033025
CREATED:20241015T132421Z
LAST-MODIFIED:20241015T134044Z
UID:19161-1732393800-1732393800@silenceteatro.it
SUMMARY:(R)Esistenze - TERNO D’ISOLA (BG)
DESCRIPTION:Only in Italian language
URL:https://silenceteatro.it/en/event/resistenze-2024-11-23/
LOCATION:TERNO D’ISOLA (BG)
ATTACH;FMTTYPE=image/jpeg:https://silenceteatro.it/wp-content/uploads/2024/06/Resistenze-15-800x533-1.jpg
END:VEVENT
END:VCALENDAR