BEGIN:VCALENDAR
VERSION:2.0
PRODID:-//Silence Teatro - ECPv6.15.20//NONSGML v1.0//EN
CALSCALE:GREGORIAN
METHOD:PUBLISH
X-ORIGINAL-URL:https://silenceteatro.it/en/
X-WR-CALDESC:Events for Silence Teatro
REFRESH-INTERVAL;VALUE=DURATION:PT1H
X-Robots-Tag:noindex
X-PUBLISHED-TTL:PT1H
BEGIN:VTIMEZONE
TZID:UTC
BEGIN:STANDARD
TZOFFSETFROM:+0000
TZOFFSETTO:+0000
TZNAME:UTC
DTSTART:20230101T000000
END:STANDARD
END:VTIMEZONE
BEGIN:VEVENT
DTSTART;TZID=UTC:20241103T180000
DTEND;TZID=UTC:20241103T180000
DTSTAMP:20260422T033049
CREATED:20240620T172026Z
LAST-MODIFIED:20241006T014641Z
UID:18847-1730656800-1730656800@silenceteatro.it
SUMMARY:(R)Esistenze - TRENTO
DESCRIPTION:Only in Italian language
URL:https://silenceteatro.it/en/event/resistenze-03-11-2024/
LOCATION:TRENTO
ATTACH;FMTTYPE=image/jpeg:https://silenceteatro.it/wp-content/uploads/2024/06/Resistenze-15-800x533-1.jpg
END:VEVENT
END:VCALENDAR