BEGIN:VCALENDAR
VERSION:2.0
PRODID:-//Silence Teatro - ECPv6.15.20//NONSGML v1.0//EN
CALSCALE:GREGORIAN
METHOD:PUBLISH
X-ORIGINAL-URL:https://silenceteatro.it/en/
X-WR-CALDESC:Events for Silence Teatro
REFRESH-INTERVAL;VALUE=DURATION:PT1H
X-Robots-Tag:noindex
X-PUBLISHED-TTL:PT1H
BEGIN:VTIMEZONE
TZID:UTC
BEGIN:STANDARD
TZOFFSETFROM:+0000
TZOFFSETTO:+0000
TZNAME:UTC
DTSTART:20230101T000000
END:STANDARD
END:VTIMEZONE
BEGIN:VEVENT
DTSTART;TZID=UTC:20241001T180000
DTEND;TZID=UTC:20241001T180000
DTSTAMP:20260422T045606
CREATED:20240819T191132Z
LAST-MODIFIED:20240928T182623Z
UID:18769-1727805600-1727805600@silenceteatro.it
SUMMARY:White Signs - ISTANBUL (Turchia)
DESCRIPTION:Improvvisation performance on the poetry of daily life.\n» Go to the performance page
URL:https://silenceteatro.it/en/event/white-signs-01-10-2024/
LOCATION:ISTANBUL (Turchia)
ATTACH;FMTTYPE=image/jpeg:https://silenceteatro.it/wp-content/uploads/2017/06/segni-17.jpg
END:VEVENT
END:VCALENDAR