BEGIN:VCALENDAR
VERSION:2.0
PRODID:-//Silence Teatro - ECPv6.15.20//NONSGML v1.0//EN
CALSCALE:GREGORIAN
METHOD:PUBLISH
X-ORIGINAL-URL:https://silenceteatro.it/en/
X-WR-CALDESC:Events for Silence Teatro
REFRESH-INTERVAL;VALUE=DURATION:PT1H
X-Robots-Tag:noindex
X-PUBLISHED-TTL:PT1H
BEGIN:VTIMEZONE
TZID:UTC
BEGIN:STANDARD
TZOFFSETFROM:+0000
TZOFFSETTO:+0000
TZNAME:UTC
DTSTART:20230101T000000
END:STANDARD
END:VTIMEZONE
BEGIN:VEVENT
DTSTART;TZID=UTC:20240914T140000
DTEND;TZID=UTC:20240914T140000
DTSTAMP:20260422T062251
CREATED:20240704T180029Z
LAST-MODIFIED:20241004T183014Z
UID:19028-1726322400-1726322400@silenceteatro.it
SUMMARY:White Signs - VERNAGO DI VAL SENALES (BZ)
DESCRIPTION:Improvvisation performance on the poetry of daily life.\n» Go to the performance page
URL:https://silenceteatro.it/en/event/white-signs-14-09-2024/
LOCATION:VERNAGO DI VAL SENALES (BZ)
ATTACH;FMTTYPE=image/jpeg:https://silenceteatro.it/wp-content/uploads/2017/06/segni-17.jpg
END:VEVENT
END:VCALENDAR