BEGIN:VCALENDAR
VERSION:2.0
PRODID:-//Silence Teatro - ECPv6.15.20//NONSGML v1.0//EN
CALSCALE:GREGORIAN
METHOD:PUBLISH
X-ORIGINAL-URL:https://silenceteatro.it/en/
X-WR-CALDESC:Events for Silence Teatro
REFRESH-INTERVAL;VALUE=DURATION:PT1H
X-Robots-Tag:noindex
X-PUBLISHED-TTL:PT1H
BEGIN:VTIMEZONE
TZID:UTC
BEGIN:STANDARD
TZOFFSETFROM:+0000
TZOFFSETTO:+0000
TZNAME:UTC
DTSTART:20230101T000000
END:STANDARD
END:VTIMEZONE
BEGIN:VEVENT
DTSTART;TZID=UTC:20240718T200000
DTEND;TZID=UTC:20240718T200000
DTSTAMP:20260422T092847
CREATED:20240601T101552Z
LAST-MODIFIED:20241004T215106Z
UID:19037-1721332800-1721332800@silenceteatro.it
SUMMARY:Like Angels of the Heaven - CERTALDO (FI)
DESCRIPTION:Itinerant performance for those who believe it is possible to savor the beauty of the dream.\n» Go to the performance page
URL:https://silenceteatro.it/en/event/like-angels-of-the-heaven-18-07-2024/
LOCATION:CERTALDO (FI)
ATTACH;FMTTYPE=image/jpeg:https://silenceteatro.it/wp-content/uploads/2017/06/angeli02-full.jpg
END:VEVENT
END:VCALENDAR