BEGIN:VCALENDAR
VERSION:2.0
PRODID:-//Silence Teatro - ECPv6.15.20//NONSGML v1.0//EN
CALSCALE:GREGORIAN
METHOD:PUBLISH
X-WR-CALNAME:Silence Teatro
X-ORIGINAL-URL:https://silenceteatro.it/en/
X-WR-CALDESC:Events for Silence Teatro
REFRESH-INTERVAL;VALUE=DURATION:PT1H
X-Robots-Tag:noindex
X-PUBLISHED-TTL:PT1H
BEGIN:VTIMEZONE
TZID:UTC
BEGIN:STANDARD
TZOFFSETFROM:+0000
TZOFFSETTO:+0000
TZNAME:UTC
DTSTART:20230101T000000
END:STANDARD
END:VTIMEZONE
BEGIN:VEVENT
DTSTART;TZID=UTC:20240622T200000
DTEND;TZID=UTC:20240622T200000
DTSTAMP:20260422T105359
CREATED:20240331T070000Z
LAST-MODIFIED:20241004T215958Z
UID:19039-1719086400-1719086400@silenceteatro.it
SUMMARY:Baroque Suggestions - LOVERE (BG)
DESCRIPTION:A journey through time and feelings.\n» Go to the performance page
URL:https://silenceteatro.it/en/event/baroque-suggestions-22-06-2024/
LOCATION:LOVERE (BG)
ATTACH;FMTTYPE=image/jpeg:https://silenceteatro.it/wp-content/uploads/2024/05/11_800x532.jpg
END:VEVENT
END:VCALENDAR