BEGIN:VCALENDAR
VERSION:2.0
PRODID:-//Silence Teatro - ECPv6.15.20//NONSGML v1.0//EN
CALSCALE:GREGORIAN
METHOD:PUBLISH
X-ORIGINAL-URL:https://silenceteatro.it/en/
X-WR-CALDESC:Events for Silence Teatro
REFRESH-INTERVAL;VALUE=DURATION:PT1H
X-Robots-Tag:noindex
X-PUBLISHED-TTL:PT1H
BEGIN:VTIMEZONE
TZID:UTC
BEGIN:STANDARD
TZOFFSETFROM:+0000
TZOFFSETTO:+0000
TZNAME:UTC
DTSTART:20230101T000000
END:STANDARD
END:VTIMEZONE
BEGIN:VEVENT
DTSTART;TZID=UTC:20240511T100000
DTEND;TZID=UTC:20240511T100000
DTSTAMP:20260422T122720
CREATED:20241004T005309Z
LAST-MODIFIED:20241005T021659Z
UID:19016-1715421600-1715421600@silenceteatro.it
SUMMARY:Io\, Me Stesso... E Altre Cose - LOVERE (BG)
DESCRIPTION:Only in Italian language
URL:https://silenceteatro.it/en/event/io-me-stesso-e-altre-cose-11-05-2024/
LOCATION:LOVERE (BG)
ATTACH;FMTTYPE=image/jpeg:https://silenceteatro.it/wp-content/uploads/2024/10/io-me-stesso-13-510x530-1.jpg
END:VEVENT
END:VCALENDAR